BEGIN:VCALENDAR
VERSION:2.0
PRODID:spatie/icalendar-generator
DESCRIPTION:Évènements de Enfants du Monde
X-WR-CALDESC:Évènements de Enfants du Monde
REFRESH-INTERVAL;VALUE=DURATION:PT1440M
X-PUBLISHED-TTL:PT1440M
BEGIN:VTIMEZONE
TZID:Europe/Brussels
BEGIN:DAYLIGHT
DTSTART:20260329T020000Z
TZOFFSETFROM:+0100
TZOFFSETTO:+0200
END:DAYLIGHT
BEGIN:STANDARD
DTSTART:20261025T030000Z
TZOFFSETFROM:+0200
TZOFFSETTO:+0100
END:STANDARD
BEGIN:DAYLIGHT
DTSTART:20270328T020000Z
TZOFFSETFROM:+0100
TZOFFSETTO:+0200
END:DAYLIGHT
END:VTIMEZONE
BEGIN:VTIMEZONE
TZID:UTC
BEGIN:STANDARD
DTSTART:20250726T103339Z
TZOFFSETFROM:+0000
TZOFFSETTO:+0000
END:STANDARD
END:VTIMEZONE
BEGIN:VEVENT
UID:7-7
DTSTAMP:20260422T103339Z
SUMMARY:Fancy-fair 2026
LOCATION:
ORGANIZER;CN=Jo Thoorens:MAILTO:jo.thoorens@gmail.com
DTSTART;TZID=Europe/Brussels:20261011T120000
DTEND;TZID=Europe/Brussels:20261011T130000
X-ALT-DESC;FMTTYPE=TEXT/HTML:
CATEGORIES:Evénement
URL;VALUE=URI:https://enfantsdumonde.be/my-calendar/?mc_id=7&#038;nocache=1
 773420396-2719&#038;vcal=7
METHOD:PUBLISH
END:VEVENT
END:VCALENDAR