BEGIN:VCALENDAR
VERSION:2.0
PRODID:spatie/icalendar-generator
DESCRIPTION:Évènements de Enfants du Monde
X-WR-CALDESC:Évènements de Enfants du Monde
REFRESH-INTERVAL;VALUE=DURATION:PT1440M
X-PUBLISHED-TTL:PT1440M
BEGIN:VTIMEZONE
TZID:Europe/Brussels
BEGIN:STANDARD
DTSTART:20251026T030000Z
TZOFFSETFROM:+0200
TZOFFSETTO:+0100
END:STANDARD
BEGIN:DAYLIGHT
DTSTART:20260329T020000Z
TZOFFSETFROM:+0100
TZOFFSETTO:+0200
END:DAYLIGHT
BEGIN:STANDARD
DTSTART:20261025T030000Z
TZOFFSETFROM:+0200
TZOFFSETTO:+0100
END:STANDARD
END:VTIMEZONE
BEGIN:VTIMEZONE
TZID:UTC
BEGIN:STANDARD
DTSTART:20250724T122620Z
TZOFFSETFROM:+0000
TZOFFSETTO:+0000
END:STANDARD
END:VTIMEZONE
BEGIN:VEVENT
UID:6-6
DTSTAMP:20260420T122620Z
SUMMARY:Marche pour PHEBS
LOCATION:
ORGANIZER;CN=Jo Thoorens:MAILTO:jo.thoorens@gmail.com
DTSTART;TZID=Europe/Brussels:20260502T140000
DTEND;TZID=Europe/Brussels:20260502T170000
X-ALT-DESC;FMTTYPE=TEXT/HTML:
CATEGORIES:Evénement
URL;VALUE=URI:https://enfantsdumonde.be/my-calendar/?mc_id=6&#038;nocache=1
 775928189-4127&#038;vcal=6
METHOD:PUBLISH
END:VEVENT
END:VCALENDAR